BEGIN:VCALENDAR
VERSION:2.0
PRODID:-//Bunscoil na Tríonóide - ECPv6.15.17//NONSGML v1.0//EN
CALSCALE:GREGORIAN
METHOD:PUBLISH
X-WR-CALNAME:Bunscoil na Tríonóide
X-ORIGINAL-URL:https://www.tpstuam.ie
X-WR-CALDESC:Events for Bunscoil na Tríonóide
REFRESH-INTERVAL;VALUE=DURATION:PT1H
X-Robots-Tag:noindex
X-PUBLISHED-TTL:PT1H
BEGIN:VTIMEZONE
TZID:Europe/London
BEGIN:DAYLIGHT
TZOFFSETFROM:+0000
TZOFFSETTO:+0100
TZNAME:BST
DTSTART:20230326T010000
END:DAYLIGHT
BEGIN:STANDARD
TZOFFSETFROM:+0100
TZOFFSETTO:+0000
TZNAME:GMT
DTSTART:20231029T010000
END:STANDARD
BEGIN:DAYLIGHT
TZOFFSETFROM:+0000
TZOFFSETTO:+0100
TZNAME:BST
DTSTART:20240331T010000
END:DAYLIGHT
BEGIN:STANDARD
TZOFFSETFROM:+0100
TZOFFSETTO:+0000
TZNAME:GMT
DTSTART:20241027T010000
END:STANDARD
BEGIN:DAYLIGHT
TZOFFSETFROM:+0000
TZOFFSETTO:+0100
TZNAME:BST
DTSTART:20250330T010000
END:DAYLIGHT
BEGIN:STANDARD
TZOFFSETFROM:+0100
TZOFFSETTO:+0000
TZNAME:GMT
DTSTART:20251026T010000
END:STANDARD
BEGIN:DAYLIGHT
TZOFFSETFROM:+0000
TZOFFSETTO:+0100
TZNAME:BST
DTSTART:20260329T010000
END:DAYLIGHT
BEGIN:STANDARD
TZOFFSETFROM:+0100
TZOFFSETTO:+0000
TZNAME:GMT
DTSTART:20261025T010000
END:STANDARD
END:VTIMEZONE
BEGIN:VEVENT
DTSTART;VALUE=DATE:20250625
DTEND;VALUE=DATE:20250626
DTSTAMP:20260421T131545
CREATED:20241105T153407Z
LAST-MODIFIED:20241105T153407Z
UID:455-1750809600-1750895999@www.tpstuam.ie
SUMMARY:Summer break
DESCRIPTION:Closing for summer break at 12 o clock
URL:https://www.tpstuam.ie/event/summer-break/
END:VEVENT
BEGIN:VEVENT
DTSTART;VALUE=DATE:20250602
DTEND;VALUE=DATE:20250603
DTSTAMP:20260421T131545
CREATED:20241105T153328Z
LAST-MODIFIED:20241105T153328Z
UID:452-1748822400-1748908799@www.tpstuam.ie
SUMMARY:June bank holiday
DESCRIPTION:
URL:https://www.tpstuam.ie/event/june-bank-holiday/
END:VEVENT
BEGIN:VEVENT
DTSTART;VALUE=DATE:20250505
DTEND;VALUE=DATE:20250506
DTSTAMP:20260421T131545
CREATED:20241105T153110Z
LAST-MODIFIED:20241105T153110Z
UID:449-1746403200-1746489599@www.tpstuam.ie
SUMMARY:May Bank holiday
DESCRIPTION:
URL:https://www.tpstuam.ie/event/may-bank-holiday/
END:VEVENT
BEGIN:VEVENT
DTSTART;VALUE=DATE:20250414
DTEND;VALUE=DATE:20250426
DTSTAMP:20260421T131545
CREATED:20241105T153034Z
LAST-MODIFIED:20241105T153034Z
UID:446-1744588800-1745625599@www.tpstuam.ie
SUMMARY:Easter holidays
DESCRIPTION:
URL:https://www.tpstuam.ie/event/easter-holidays/
END:VEVENT
BEGIN:VEVENT
DTSTART;VALUE=DATE:20250317
DTEND;VALUE=DATE:20250319
DTSTAMP:20260421T131545
CREATED:20241105T152902Z
LAST-MODIFIED:20241105T152902Z
UID:443-1742169600-1742342399@www.tpstuam.ie
SUMMARY:St Patricks Day break
DESCRIPTION:
URL:https://www.tpstuam.ie/event/st-patricks-day-break/
END:VEVENT
BEGIN:VEVENT
DTSTART;VALUE=DATE:20250220
DTEND;VALUE=DATE:20250222
DTSTAMP:20260421T131545
CREATED:20241105T151726Z
LAST-MODIFIED:20241105T151726Z
UID:440-1740009600-1740182399@www.tpstuam.ie
SUMMARY:Midterm break
DESCRIPTION:
URL:https://www.tpstuam.ie/event/midterm-break-2/
END:VEVENT
BEGIN:VEVENT
DTSTART;VALUE=DATE:20250203
DTEND;VALUE=DATE:20250204
DTSTAMP:20260421T131545
CREATED:20241105T151326Z
LAST-MODIFIED:20241105T151326Z
UID:437-1738540800-1738627199@www.tpstuam.ie
SUMMARY:Feb Bank Holiday
DESCRIPTION:
URL:https://www.tpstuam.ie/event/feb-bank-holiday/
END:VEVENT
BEGIN:VEVENT
DTSTART;VALUE=DATE:20241223
DTEND;VALUE=DATE:20250104
DTSTAMP:20260421T131545
CREATED:20241105T151043Z
LAST-MODIFIED:20241105T151043Z
UID:434-1734912000-1735948799@www.tpstuam.ie
SUMMARY:Christmas Holidays
DESCRIPTION:
URL:https://www.tpstuam.ie/event/christmas-holidays/
END:VEVENT
BEGIN:VEVENT
DTSTART;VALUE=DATE:20241028
DTEND;VALUE=DATE:20241102
DTSTAMP:20260421T131545
CREATED:20241105T102333Z
LAST-MODIFIED:20241105T102333Z
UID:431-1730073600-1730505599@www.tpstuam.ie
SUMMARY:Midterm Break
DESCRIPTION:
URL:https://www.tpstuam.ie/event/midterm-break/
END:VEVENT
END:VCALENDAR